BEGIN:VCALENDAR
VERSION:2.0
PRODID:-//Mutual Dance Theatre and Arts Centers - ECPv6.15.13//NONSGML v1.0//EN
CALSCALE:GREGORIAN
METHOD:PUBLISH
X-WR-CALNAME:Mutual Dance Theatre and Arts Centers
X-ORIGINAL-URL:https://www.mutualdance.org
X-WR-CALDESC:Events for Mutual Dance Theatre and Arts Centers
REFRESH-INTERVAL;VALUE=DURATION:PT1H
X-Robots-Tag:noindex
X-PUBLISHED-TTL:PT1H
BEGIN:VTIMEZONE
TZID:America/New_York
BEGIN:DAYLIGHT
TZOFFSETFROM:-0500
TZOFFSETTO:-0400
TZNAME:EDT
DTSTART:20240310T070000
END:DAYLIGHT
BEGIN:STANDARD
TZOFFSETFROM:-0400
TZOFFSETTO:-0500
TZNAME:EST
DTSTART:20241103T060000
END:STANDARD
BEGIN:DAYLIGHT
TZOFFSETFROM:-0500
TZOFFSETTO:-0400
TZNAME:EDT
DTSTART:20250309T070000
END:DAYLIGHT
BEGIN:STANDARD
TZOFFSETFROM:-0400
TZOFFSETTO:-0500
TZNAME:EST
DTSTART:20251102T060000
END:STANDARD
BEGIN:DAYLIGHT
TZOFFSETFROM:-0500
TZOFFSETTO:-0400
TZNAME:EDT
DTSTART:20260308T070000
END:DAYLIGHT
BEGIN:STANDARD
TZOFFSETFROM:-0400
TZOFFSETTO:-0500
TZNAME:EST
DTSTART:20261101T060000
END:STANDARD
BEGIN:DAYLIGHT
TZOFFSETFROM:-0500
TZOFFSETTO:-0400
TZNAME:EDT
DTSTART:20270314T070000
END:DAYLIGHT
BEGIN:STANDARD
TZOFFSETFROM:-0400
TZOFFSETTO:-0500
TZNAME:EST
DTSTART:20271107T060000
END:STANDARD
END:VTIMEZONE
BEGIN:VEVENT
DTSTART;TZID=America/New_York:20260221T120000
DTEND;TZID=America/New_York:20260221T133000
DTSTAMP:20260423T122659
CREATED:20250701T224137Z
LAST-MODIFIED:20250702T163407Z
UID:104276-1771675200-1771680600@www.mutualdance.org
SUMMARY:Masterclass with Yue Yin
DESCRIPTION:
URL:https://www.mutualdance.org/archive/2025-2026/yueyin/#movewithmutual
LOCATION:Mutual Arts Center HARTWELL\, 8222 Monon Ave\, Cincinnati\, OH\, 45216\, United States
CATEGORIES:Teen,Adults,Education
ATTACH;FMTTYPE=image/png:https://www.mutualdance.org/v2020/wp-content/uploads/2025/07/2526_YY_Header_16x9-1.png
END:VEVENT
BEGIN:VEVENT
DTSTART;VALUE=DATE:20260131
DTEND;VALUE=DATE:20260201
DTSTAMP:20260423T122659
CREATED:20250721T170700Z
LAST-MODIFIED:20250729T160413Z
UID:159518-1769817600-1769903999@www.mutualdance.org
SUMMARY:LAST DAY TO REGISTER FOR ANY CLASS
DESCRIPTION:
URL:https://www.mutualdance.org/event/last-day-to-register-for-any-class/
CATEGORIES:Children,Adults,Education
END:VEVENT
BEGIN:VEVENT
DTSTART;VALUE=DATE:20251215
DTEND;VALUE=DATE:20251221
DTSTAMP:20260423T122659
CREATED:20250701T225724Z
LAST-MODIFIED:20251209T162740Z
UID:104284-1765756800-1766275199@www.mutualdance.org
SUMMARY:Giftable Book Swap: free!
DESCRIPTION:Pick up FREE pre-wrapped pre-owned books that have been wrapped\, pre-screened\, and tagged with descriptors (age\, condition\, etc.)! \n  \nThis post will be updated with the open days/times as we draw near. \n  \nHelp yourself to a book in the lobby. \n  \nWant to give your books a new home? Click here for information.
URL:https://www.mutualdance.org/event/giftable-book-swap-free-2025/
LOCATION:Mutual Arts Center HARTWELL\, 8222 Monon Ave\, Cincinnati\, OH\, 45216\, United States
CATEGORIES:Community & Family,Children,Teen,Adults,Education
ATTACH;FMTTYPE=image/png:https://www.mutualdance.org/v2020/wp-content/uploads/2025/07/1.png
END:VEVENT
BEGIN:VEVENT
DTSTART;TZID=America/New_York:20251206T120000
DTEND;TZID=America/New_York:20251206T133000
DTSTAMP:20260423T122659
CREATED:20250701T222747Z
LAST-MODIFIED:20250702T162211Z
UID:104254-1765022400-1765027800@www.mutualdance.org
SUMMARY:Repertory Masterclass with MDT
DESCRIPTION:
URL:https://www.mutualdance.org/archive/2025-2026/upclose25/#movewithmutual
LOCATION:Mutual Arts Center HARTWELL\, 8222 Monon Ave\, Cincinnati\, OH\, 45216\, United States
CATEGORIES:Teen,Adults,Education
ATTACH;FMTTYPE=image/png:https://www.mutualdance.org/v2020/wp-content/uploads/2025/07/2526_ModMix26_header_16x9-2.png
END:VEVENT
BEGIN:VEVENT
DTSTART;VALUE=DATE:20251123
DTEND;VALUE=DATE:20251130
DTSTAMP:20260423T122659
CREATED:20250721T165510Z
LAST-MODIFIED:20250729T160359Z
UID:159504-1763856000-1764460799@www.mutualdance.org
SUMMARY:NO CLASSES: Fall Break
DESCRIPTION:
URL:https://www.mutualdance.org/event/no-classes-fall-break/
CATEGORIES:Children,Education
END:VEVENT
BEGIN:VEVENT
DTSTART;VALUE=DATE:20251117
DTEND;VALUE=DATE:20251123
DTSTAMP:20260423T122659
CREATED:20250721T170435Z
LAST-MODIFIED:20250729T160349Z
UID:159513-1763337600-1763855999@www.mutualdance.org
SUMMARY:(Hartwell/Academy Only) Bring a Friend Week!
DESCRIPTION:
URL:https://www.mutualdance.org/event/hartwell-academy-only-bring-a-friend-week/
CATEGORIES:Children,Adults,Education,Free
ATTACH;FMTTYPE=image/jpeg:https://www.mutualdance.org/v2020/wp-content/uploads/2025/07/pexels-pixabay-50581-scaled.jpg
END:VEVENT
BEGIN:VEVENT
DTSTART;VALUE=DATE:20251104
DTEND;VALUE=DATE:20251105
DTSTAMP:20260423T122659
CREATED:20250721T165652Z
LAST-MODIFIED:20250729T160253Z
UID:159506-1762214400-1762300799@www.mutualdance.org
SUMMARY:(CLIFTON ONLY) NO CLASS
DESCRIPTION:
URL:https://www.mutualdance.org/event/clifton-only-no-class-2/
CATEGORIES:Children,Education
END:VEVENT
BEGIN:VEVENT
DTSTART;VALUE=DATE:20251031
DTEND;VALUE=DATE:20251101
DTSTAMP:20260423T122659
CREATED:20250721T165122Z
LAST-MODIFIED:20250729T160221Z
UID:159499-1761868800-1761955199@www.mutualdance.org
SUMMARY:NO CLASS - Trick or Treat
DESCRIPTION:
URL:https://www.mutualdance.org/event/no-class-trick-or-treat/
CATEGORIES:Children,Education
END:VEVENT
BEGIN:VEVENT
DTSTART;VALUE=DATE:20251024
DTEND;VALUE=DATE:20251031
DTSTAMP:20260423T122659
CREATED:20250721T165959Z
LAST-MODIFIED:20250729T160215Z
UID:159510-1761264000-1761868799@www.mutualdance.org
SUMMARY:(Hartwell/Academy Only) Costume Dress Up Week
DESCRIPTION:
URL:https://www.mutualdance.org/event/hartwell-academy-only-costume-dress-up-week/
CATEGORIES:Children,Education
ATTACH;FMTTYPE=image/jpeg:https://www.mutualdance.org/v2020/wp-content/uploads/2025/07/pexels-daisy-anderson-5589903-scaled.jpg
END:VEVENT
BEGIN:VEVENT
DTSTART;TZID=America/New_York:20251004T120000
DTEND;TZID=America/New_York:20251004T133000
DTSTAMP:20260423T122659
CREATED:20250701T211705Z
LAST-MODIFIED:20250702T160946Z
UID:104240-1759579200-1759584600@www.mutualdance.org
SUMMARY:Masterclass with Deeply Rooted
DESCRIPTION:
URL:https://www.mutualdance.org/archive/2025-2026/deeply/#movewithmutual
LOCATION:Mutual Arts Center HARTWELL\, 8222 Monon Ave\, Cincinnati\, OH\, 45216\, United States
CATEGORIES:Teen,Adults,Education
ATTACH;FMTTYPE=image/png:https://www.mutualdance.org/v2020/wp-content/uploads/2025/07/2526_DR_Header_16x9-1.png
END:VEVENT
BEGIN:VEVENT
DTSTART;VALUE=DATE:20251002
DTEND;VALUE=DATE:20251003
DTSTAMP:20260423T122659
CREATED:20250721T165307Z
LAST-MODIFIED:20250729T160202Z
UID:159502-1759363200-1759449599@www.mutualdance.org
SUMMARY:(CLIFTON ONLY) NO CLASS
DESCRIPTION:
URL:https://www.mutualdance.org/event/clifton-only-no-class/
CATEGORIES:Children,Education
END:VEVENT
BEGIN:VEVENT
DTSTART;VALUE=DATE:20250915
DTEND;VALUE=DATE:20250916
DTSTAMP:20260423T122659
CREATED:20250701T210546Z
LAST-MODIFIED:20250721T164721Z
UID:104222-1757894400-1757980799@www.mutualdance.org
SUMMARY:Weekly Kids Classes Begin (all locations)
DESCRIPTION:Recreational — https://www.mutualdance.org/artscenters/reckids/ \nClifton — https://www.mutualdance.org/artscenters/reckids/clifton/ \nAcademy — https://www.mutualdance.org/artscenters/academy/
URL:https://www.mutualdance.org/event/weekly-kids-classes-begin-all-locations/
CATEGORIES:Children,Teen,Education
ATTACH;FMTTYPE=image/jpeg:https://www.mutualdance.org/v2020/wp-content/uploads/2024/07/2405recital-rec-mon-2nd3rdcombo-8300-scaled-e1751466808108.jpeg
END:VEVENT
BEGIN:VEVENT
DTSTART;VALUE=DATE:20250801
DTEND;VALUE=DATE:20250802
DTSTAMP:20260423T122659
CREATED:20250701T205553Z
LAST-MODIFIED:20250702T144517Z
UID:104212-1754006400-1754092799@www.mutualdance.org
SUMMARY:Summer Kids Classes End
DESCRIPTION:
URL:https://www.mutualdance.org/artscenters/summer/summerclasses/
LOCATION:Mutual Arts Center HARTWELL\, 8222 Monon Ave\, Cincinnati\, OH\, 45216\, United States
CATEGORIES:Children,Teen,Education
ATTACH;FMTTYPE=image/jpeg:https://www.mutualdance.org/v2020/wp-content/uploads/2023/12/1b57407ac6b575c50a9f04fa18df8b69-e1751467059570.jpeg
END:VEVENT
BEGIN:VEVENT
DTSTART;TZID=America/New_York:20250726T143000
DTEND;TZID=America/New_York:20250726T180000
DTSTAMP:20260423T122659
CREATED:20250701T210206Z
LAST-MODIFIED:20250702T144342Z
UID:104218-1753540200-1753552800@www.mutualdance.org
SUMMARY:Academy Auditions
DESCRIPTION:
URL:https://www.mutualdance.org/artscenters/academy/
LOCATION:Mutual Arts Center HARTWELL\, 8222 Monon Ave\, Cincinnati\, OH\, 45216\, United States
CATEGORIES:Children,Teen,Education,Free
ATTACH;FMTTYPE=image/jpeg:https://www.mutualdance.org/v2020/wp-content/uploads/2024/07/2405recital-acad-imod-8941-scaled-e1751467412288.jpeg
END:VEVENT
BEGIN:VEVENT
DTSTART;TZID=America/New_York:20250719T110000
DTEND;TZID=America/New_York:20250719T133000
DTSTAMP:20260423T122659
CREATED:20250701T210106Z
LAST-MODIFIED:20250711T145707Z
UID:104216-1752922800-1752931800@www.mutualdance.org
SUMMARY:Hartwell Open House
DESCRIPTION:
URL:https://www.mutualdance.org/event/hartwell-open-house/
LOCATION:Mutual Arts Center HARTWELL\, 8222 Monon Ave\, Cincinnati\, OH\, 45216\, United States
CATEGORIES:Children,Teen,Education,Free
ATTACH;FMTTYPE=image/jpeg:https://www.mutualdance.org/v2020/wp-content/uploads/2025/07/photo_2025-07-02_10-23-12-e1751466449969.jpg
END:VEVENT
BEGIN:VEVENT
DTSTART;VALUE=DATE:20250714
DTEND;VALUE=DATE:20250719
DTSTAMP:20260423T122659
CREATED:20250701T205710Z
LAST-MODIFIED:20250702T164340Z
UID:104214-1752451200-1752883199@www.mutualdance.org
SUMMARY:Summer Teen Intensive
DESCRIPTION:
URL:https://www.mutualdance.org/artscenters/summer/intensive/teen/
LOCATION:Mutual Arts Center HARTWELL\, 8222 Monon Ave\, Cincinnati\, OH\, 45216\, United States
CATEGORIES:Teen,Education
ATTACH;FMTTYPE=image/jpeg:https://www.mutualdance.org/v2020/wp-content/uploads/2021/03/sadie-1706teen-3636-e1751467261127.jpg
END:VEVENT
BEGIN:VEVENT
DTSTART;VALUE=DATE:20250707
DTEND;VALUE=DATE:20250708
DTSTAMP:20260423T122659
CREATED:20250701T205525Z
LAST-MODIFIED:20250702T143748Z
UID:104208-1751846400-1751932799@www.mutualdance.org
SUMMARY:Summer Kids Classes Begin
DESCRIPTION:
URL:https://www.mutualdance.org/artscenters/summer/summerclasses/
LOCATION:Mutual Arts Center HARTWELL\, 8222 Monon Ave\, Cincinnati\, OH\, 45216\, United States
CATEGORIES:Children,Teen,Education
ATTACH;FMTTYPE=image/jpeg:https://www.mutualdance.org/v2020/wp-content/uploads/2023/12/1b57407ac6b575c50a9f04fa18df8b69-e1751467059570.jpeg
END:VEVENT
END:VCALENDAR