BEGIN:VCALENDAR
VERSION:2.0
PRODID:-//Mutual Dance Theatre and Arts Centers - ECPv6.15.13//NONSGML v1.0//EN
CALSCALE:GREGORIAN
METHOD:PUBLISH
X-ORIGINAL-URL:https://www.mutualdance.org
X-WR-CALDESC:Events for Mutual Dance Theatre and Arts Centers
REFRESH-INTERVAL;VALUE=DURATION:PT1H
X-Robots-Tag:noindex
X-PUBLISHED-TTL:PT1H
BEGIN:VTIMEZONE
TZID:America/New_York
BEGIN:DAYLIGHT
TZOFFSETFROM:-0500
TZOFFSETTO:-0400
TZNAME:EDT
DTSTART:20240310T070000
END:DAYLIGHT
BEGIN:STANDARD
TZOFFSETFROM:-0400
TZOFFSETTO:-0500
TZNAME:EST
DTSTART:20241103T060000
END:STANDARD
BEGIN:DAYLIGHT
TZOFFSETFROM:-0500
TZOFFSETTO:-0400
TZNAME:EDT
DTSTART:20250309T070000
END:DAYLIGHT
BEGIN:STANDARD
TZOFFSETFROM:-0400
TZOFFSETTO:-0500
TZNAME:EST
DTSTART:20251102T060000
END:STANDARD
BEGIN:DAYLIGHT
TZOFFSETFROM:-0500
TZOFFSETTO:-0400
TZNAME:EDT
DTSTART:20260308T070000
END:DAYLIGHT
BEGIN:STANDARD
TZOFFSETFROM:-0400
TZOFFSETTO:-0500
TZNAME:EST
DTSTART:20261101T060000
END:STANDARD
END:VTIMEZONE
BEGIN:VEVENT
DTSTART;TZID=America/New_York:20250719T110000
DTEND;TZID=America/New_York:20250719T133000
DTSTAMP:20260423T043221
CREATED:20250701T210106Z
LAST-MODIFIED:20250711T145707Z
UID:104216-1752922800-1752931800@www.mutualdance.org
SUMMARY:Hartwell Open House
DESCRIPTION:
URL:https://www.mutualdance.org/event/hartwell-open-house/
LOCATION:Mutual Arts Center HARTWELL\, 8222 Monon Ave\, Cincinnati\, OH\, 45216\, United States
CATEGORIES:Children,Teen,Education,Free
ATTACH;FMTTYPE=image/jpeg:https://www.mutualdance.org/v2020/wp-content/uploads/2025/07/photo_2025-07-02_10-23-12-e1751466449969.jpg
END:VEVENT
BEGIN:VEVENT
DTSTART;TZID=America/New_York:20250726T143000
DTEND;TZID=America/New_York:20250726T180000
DTSTAMP:20260423T043221
CREATED:20250701T210206Z
LAST-MODIFIED:20250702T144342Z
UID:104218-1753540200-1753552800@www.mutualdance.org
SUMMARY:Academy Auditions
DESCRIPTION:
URL:https://www.mutualdance.org/artscenters/academy/
LOCATION:Mutual Arts Center HARTWELL\, 8222 Monon Ave\, Cincinnati\, OH\, 45216\, United States
CATEGORIES:Children,Teen,Education,Free
ATTACH;FMTTYPE=image/jpeg:https://www.mutualdance.org/v2020/wp-content/uploads/2024/07/2405recital-acad-imod-8941-scaled-e1751467412288.jpeg
END:VEVENT
END:VCALENDAR